BEGIN:VCALENDAR
VERSION:2.0
PRODID:-//Heartland Financial Group - ECPv6.15.11//NONSGML v1.0//EN
CALSCALE:GREGORIAN
METHOD:PUBLISH
X-WR-CALNAME:Heartland Financial Group
X-ORIGINAL-URL:https://hfgagents.com
X-WR-CALDESC:Events for Heartland Financial Group
REFRESH-INTERVAL;VALUE=DURATION:PT1H
X-Robots-Tag:noindex
X-PUBLISHED-TTL:PT1H
BEGIN:VTIMEZONE
TZID:America/Chicago
BEGIN:DAYLIGHT
TZOFFSETFROM:-0600
TZOFFSETTO:-0500
TZNAME:CDT
DTSTART:20250309T080000
END:DAYLIGHT
BEGIN:STANDARD
TZOFFSETFROM:-0500
TZOFFSETTO:-0600
TZNAME:CST
DTSTART:20251102T070000
END:STANDARD
BEGIN:DAYLIGHT
TZOFFSETFROM:-0600
TZOFFSETTO:-0500
TZNAME:CDT
DTSTART:20260308T080000
END:DAYLIGHT
BEGIN:STANDARD
TZOFFSETFROM:-0500
TZOFFSETTO:-0600
TZNAME:CST
DTSTART:20261101T070000
END:STANDARD
BEGIN:DAYLIGHT
TZOFFSETFROM:-0600
TZOFFSETTO:-0500
TZNAME:CDT
DTSTART:20270314T080000
END:DAYLIGHT
BEGIN:STANDARD
TZOFFSETFROM:-0500
TZOFFSETTO:-0600
TZNAME:CST
DTSTART:20271107T070000
END:STANDARD
BEGIN:DAYLIGHT
TZOFFSETFROM:-0600
TZOFFSETTO:-0500
TZNAME:CDT
DTSTART:20280312T080000
END:DAYLIGHT
BEGIN:STANDARD
TZOFFSETFROM:-0500
TZOFFSETTO:-0600
TZNAME:CST
DTSTART:20281105T070000
END:STANDARD
END:VTIMEZONE
BEGIN:VEVENT
DTSTART;TZID=America/Chicago:20260424T100000
DTEND;TZID=America/Chicago:20260424T110000
DTSTAMP:20260423T091920
CREATED:20260202T165754Z
LAST-MODIFIED:20260202T165754Z
UID:10004385-1777024800-1777028400@hfgagents.com
SUMMARY:FEX Friday
DESCRIPTION:
URL:https://hfgagents.com/event/fex-friday-2-2/2026-04-24/
LOCATION:Zoom
END:VEVENT
BEGIN:VEVENT
DTSTART;TZID=America/Chicago:20260508T100000
DTEND;TZID=America/Chicago:20260508T110000
DTSTAMP:20260423T091920
CREATED:20260202T165754Z
LAST-MODIFIED:20260202T165754Z
UID:10004386-1778234400-1778238000@hfgagents.com
SUMMARY:FEX Friday
DESCRIPTION:
URL:https://hfgagents.com/event/fex-friday-2-2/2026-05-08/
LOCATION:Zoom
END:VEVENT
BEGIN:VEVENT
DTSTART;TZID=America/Chicago:20260522T100000
DTEND;TZID=America/Chicago:20260522T110000
DTSTAMP:20260423T091920
CREATED:20260202T165754Z
LAST-MODIFIED:20260202T165754Z
UID:10004387-1779444000-1779447600@hfgagents.com
SUMMARY:FEX Friday
DESCRIPTION:
URL:https://hfgagents.com/event/fex-friday-2-2/2026-05-22/
LOCATION:Zoom
END:VEVENT
BEGIN:VEVENT
DTSTART;TZID=America/Chicago:20260605T100000
DTEND;TZID=America/Chicago:20260605T110000
DTSTAMP:20260423T091920
CREATED:20260202T165754Z
LAST-MODIFIED:20260202T165754Z
UID:10004388-1780653600-1780657200@hfgagents.com
SUMMARY:FEX Friday
DESCRIPTION:
URL:https://hfgagents.com/event/fex-friday-2-2/2026-06-05/
LOCATION:Zoom
END:VEVENT
BEGIN:VEVENT
DTSTART;TZID=America/Chicago:20260619T100000
DTEND;TZID=America/Chicago:20260619T110000
DTSTAMP:20260423T091920
CREATED:20260202T165754Z
LAST-MODIFIED:20260202T165754Z
UID:10004389-1781863200-1781866800@hfgagents.com
SUMMARY:FEX Friday
DESCRIPTION:
URL:https://hfgagents.com/event/fex-friday-2-2/2026-06-19/
LOCATION:Zoom
END:VEVENT
BEGIN:VEVENT
DTSTART;TZID=America/Chicago:20260703T100000
DTEND;TZID=America/Chicago:20260703T110000
DTSTAMP:20260423T091920
CREATED:20260202T165754Z
LAST-MODIFIED:20260202T165754Z
UID:10004390-1783072800-1783076400@hfgagents.com
SUMMARY:FEX Friday
DESCRIPTION:
URL:https://hfgagents.com/event/fex-friday-2-2/2026-07-03/
LOCATION:Zoom
END:VEVENT
BEGIN:VEVENT
DTSTART;TZID=America/Chicago:20260717T100000
DTEND;TZID=America/Chicago:20260717T110000
DTSTAMP:20260423T091920
CREATED:20260202T165754Z
LAST-MODIFIED:20260202T165754Z
UID:10004391-1784282400-1784286000@hfgagents.com
SUMMARY:FEX Friday
DESCRIPTION:
URL:https://hfgagents.com/event/fex-friday-2-2/2026-07-17/
LOCATION:Zoom
END:VEVENT
BEGIN:VEVENT
DTSTART;TZID=America/Chicago:20260731T100000
DTEND;TZID=America/Chicago:20260731T110000
DTSTAMP:20260423T091920
CREATED:20260202T165754Z
LAST-MODIFIED:20260202T165754Z
UID:10004392-1785492000-1785495600@hfgagents.com
SUMMARY:FEX Friday
DESCRIPTION:
URL:https://hfgagents.com/event/fex-friday-2-2/2026-07-31/
LOCATION:Zoom
END:VEVENT
BEGIN:VEVENT
DTSTART;TZID=America/Chicago:20260814T100000
DTEND;TZID=America/Chicago:20260814T110000
DTSTAMP:20260423T091920
CREATED:20260202T165754Z
LAST-MODIFIED:20260202T165754Z
UID:10004393-1786701600-1786705200@hfgagents.com
SUMMARY:FEX Friday
DESCRIPTION:
URL:https://hfgagents.com/event/fex-friday-2-2/2026-08-14/
LOCATION:Zoom
END:VEVENT
BEGIN:VEVENT
DTSTART;TZID=America/Chicago:20260828T100000
DTEND;TZID=America/Chicago:20260828T110000
DTSTAMP:20260423T091920
CREATED:20260202T165754Z
LAST-MODIFIED:20260202T165754Z
UID:10004394-1787911200-1787914800@hfgagents.com
SUMMARY:FEX Friday
DESCRIPTION:
URL:https://hfgagents.com/event/fex-friday-2-2/2026-08-28/
LOCATION:Zoom
END:VEVENT
BEGIN:VEVENT
DTSTART;TZID=America/Chicago:20260911T100000
DTEND;TZID=America/Chicago:20260911T110000
DTSTAMP:20260423T091920
CREATED:20260202T165754Z
LAST-MODIFIED:20260202T165754Z
UID:10004395-1789120800-1789124400@hfgagents.com
SUMMARY:FEX Friday
DESCRIPTION:
URL:https://hfgagents.com/event/fex-friday-2-2/2026-09-11/
LOCATION:Zoom
END:VEVENT
BEGIN:VEVENT
DTSTART;TZID=America/Chicago:20260925T100000
DTEND;TZID=America/Chicago:20260925T110000
DTSTAMP:20260423T091920
CREATED:20260202T165754Z
LAST-MODIFIED:20260202T165754Z
UID:10004396-1790330400-1790334000@hfgagents.com
SUMMARY:FEX Friday
DESCRIPTION:
URL:https://hfgagents.com/event/fex-friday-2-2/2026-09-25/
LOCATION:Zoom
END:VEVENT
BEGIN:VEVENT
DTSTART;TZID=America/Chicago:20261009T100000
DTEND;TZID=America/Chicago:20261009T110000
DTSTAMP:20260423T091920
CREATED:20260202T165754Z
LAST-MODIFIED:20260202T165754Z
UID:10004397-1791540000-1791543600@hfgagents.com
SUMMARY:FEX Friday
DESCRIPTION:
URL:https://hfgagents.com/event/fex-friday-2-2/2026-10-09/
LOCATION:Zoom
END:VEVENT
BEGIN:VEVENT
DTSTART;TZID=America/Chicago:20261023T100000
DTEND;TZID=America/Chicago:20261023T110000
DTSTAMP:20260423T091920
CREATED:20260202T165754Z
LAST-MODIFIED:20260202T165754Z
UID:10004398-1792749600-1792753200@hfgagents.com
SUMMARY:FEX Friday
DESCRIPTION:
URL:https://hfgagents.com/event/fex-friday-2-2/2026-10-23/
LOCATION:Zoom
END:VEVENT
BEGIN:VEVENT
DTSTART;TZID=America/Chicago:20261106T100000
DTEND;TZID=America/Chicago:20261106T110000
DTSTAMP:20260423T091920
CREATED:20260202T165754Z
LAST-MODIFIED:20260202T165754Z
UID:10004399-1793959200-1793962800@hfgagents.com
SUMMARY:FEX Friday
DESCRIPTION:
URL:https://hfgagents.com/event/fex-friday-2-2/2026-11-06/
LOCATION:Zoom
END:VEVENT
BEGIN:VEVENT
DTSTART;TZID=America/Chicago:20261120T100000
DTEND;TZID=America/Chicago:20261120T110000
DTSTAMP:20260423T091920
CREATED:20260202T165754Z
LAST-MODIFIED:20260202T165754Z
UID:10004400-1795168800-1795172400@hfgagents.com
SUMMARY:FEX Friday
DESCRIPTION:
URL:https://hfgagents.com/event/fex-friday-2-2/2026-11-20/
LOCATION:Zoom
END:VEVENT
BEGIN:VEVENT
DTSTART;TZID=America/Chicago:20261204T100000
DTEND;TZID=America/Chicago:20261204T110000
DTSTAMP:20260423T091920
CREATED:20260202T165754Z
LAST-MODIFIED:20260202T165754Z
UID:10004401-1796378400-1796382000@hfgagents.com
SUMMARY:FEX Friday
DESCRIPTION:
URL:https://hfgagents.com/event/fex-friday-2-2/2026-12-04/
LOCATION:Zoom
END:VEVENT
BEGIN:VEVENT
DTSTART;TZID=America/Chicago:20261218T100000
DTEND;TZID=America/Chicago:20261218T110000
DTSTAMP:20260423T091920
CREATED:20260202T165754Z
LAST-MODIFIED:20260202T165754Z
UID:10004402-1797588000-1797591600@hfgagents.com
SUMMARY:FEX Friday
DESCRIPTION:
URL:https://hfgagents.com/event/fex-friday-2-2/2026-12-18/
LOCATION:Zoom
END:VEVENT
BEGIN:VEVENT
DTSTART;TZID=America/Chicago:20270101T100000
DTEND;TZID=America/Chicago:20270101T110000
DTSTAMP:20260423T091920
CREATED:20260202T165754Z
LAST-MODIFIED:20260202T165754Z
UID:10004403-1798797600-1798801200@hfgagents.com
SUMMARY:FEX Friday
DESCRIPTION:
URL:https://hfgagents.com/event/fex-friday-2-2/2027-01-01/
LOCATION:Zoom
END:VEVENT
BEGIN:VEVENT
DTSTART;TZID=America/Chicago:20270115T100000
DTEND;TZID=America/Chicago:20270115T110000
DTSTAMP:20260423T091920
CREATED:20260202T165754Z
LAST-MODIFIED:20260202T165754Z
UID:10004404-1800007200-1800010800@hfgagents.com
SUMMARY:FEX Friday
DESCRIPTION:
URL:https://hfgagents.com/event/fex-friday-2-2/2027-01-15/
LOCATION:Zoom
END:VEVENT
BEGIN:VEVENT
DTSTART;TZID=America/Chicago:20270129T100000
DTEND;TZID=America/Chicago:20270129T110000
DTSTAMP:20260423T091920
CREATED:20260202T165754Z
LAST-MODIFIED:20260202T165754Z
UID:10004405-1801216800-1801220400@hfgagents.com
SUMMARY:FEX Friday
DESCRIPTION:
URL:https://hfgagents.com/event/fex-friday-2-2/2027-01-29/
LOCATION:Zoom
END:VEVENT
BEGIN:VEVENT
DTSTART;TZID=America/Chicago:20270212T100000
DTEND;TZID=America/Chicago:20270212T110000
DTSTAMP:20260423T091920
CREATED:20260202T165754Z
LAST-MODIFIED:20260202T165754Z
UID:10004406-1802426400-1802430000@hfgagents.com
SUMMARY:FEX Friday
DESCRIPTION:
URL:https://hfgagents.com/event/fex-friday-2-2/2027-02-12/
LOCATION:Zoom
END:VEVENT
BEGIN:VEVENT
DTSTART;TZID=America/Chicago:20270226T100000
DTEND;TZID=America/Chicago:20270226T110000
DTSTAMP:20260423T091920
CREATED:20260202T165754Z
LAST-MODIFIED:20260202T165754Z
UID:10004407-1803636000-1803639600@hfgagents.com
SUMMARY:FEX Friday
DESCRIPTION:
URL:https://hfgagents.com/event/fex-friday-2-2/2027-02-26/
LOCATION:Zoom
END:VEVENT
BEGIN:VEVENT
DTSTART;TZID=America/Chicago:20270312T100000
DTEND;TZID=America/Chicago:20270312T110000
DTSTAMP:20260423T091920
CREATED:20260202T165754Z
LAST-MODIFIED:20260202T165754Z
UID:10004408-1804845600-1804849200@hfgagents.com
SUMMARY:FEX Friday
DESCRIPTION:
URL:https://hfgagents.com/event/fex-friday-2-2/2027-03-12/
LOCATION:Zoom
END:VEVENT
BEGIN:VEVENT
DTSTART;TZID=America/Chicago:20270326T100000
DTEND;TZID=America/Chicago:20270326T110000
DTSTAMP:20260423T091920
CREATED:20260202T165754Z
LAST-MODIFIED:20260202T165754Z
UID:10004409-1806055200-1806058800@hfgagents.com
SUMMARY:FEX Friday
DESCRIPTION:
URL:https://hfgagents.com/event/fex-friday-2-2/2027-03-26/
LOCATION:Zoom
END:VEVENT
BEGIN:VEVENT
DTSTART;TZID=America/Chicago:20270409T100000
DTEND;TZID=America/Chicago:20270409T110000
DTSTAMP:20260423T091920
CREATED:20260202T165754Z
LAST-MODIFIED:20260202T165754Z
UID:10004410-1807264800-1807268400@hfgagents.com
SUMMARY:FEX Friday
DESCRIPTION:
URL:https://hfgagents.com/event/fex-friday-2-2/2027-04-09/
LOCATION:Zoom
END:VEVENT
BEGIN:VEVENT
DTSTART;TZID=America/Chicago:20270423T100000
DTEND;TZID=America/Chicago:20270423T110000
DTSTAMP:20260423T091920
CREATED:20260202T165754Z
LAST-MODIFIED:20260202T165754Z
UID:10004411-1808474400-1808478000@hfgagents.com
SUMMARY:FEX Friday
DESCRIPTION:
URL:https://hfgagents.com/event/fex-friday-2-2/2027-04-23/
LOCATION:Zoom
END:VEVENT
BEGIN:VEVENT
DTSTART;TZID=America/Chicago:20270507T100000
DTEND;TZID=America/Chicago:20270507T110000
DTSTAMP:20260423T091920
CREATED:20260202T165754Z
LAST-MODIFIED:20260202T165754Z
UID:10004412-1809684000-1809687600@hfgagents.com
SUMMARY:FEX Friday
DESCRIPTION:
URL:https://hfgagents.com/event/fex-friday-2-2/2027-05-07/
LOCATION:Zoom
END:VEVENT
BEGIN:VEVENT
DTSTART;TZID=America/Chicago:20270521T100000
DTEND;TZID=America/Chicago:20270521T110000
DTSTAMP:20260423T091920
CREATED:20260202T165754Z
LAST-MODIFIED:20260202T165754Z
UID:10004413-1810893600-1810897200@hfgagents.com
SUMMARY:FEX Friday
DESCRIPTION:
URL:https://hfgagents.com/event/fex-friday-2-2/2027-05-21/
LOCATION:Zoom
END:VEVENT
BEGIN:VEVENT
DTSTART;TZID=America/Chicago:20270604T100000
DTEND;TZID=America/Chicago:20270604T110000
DTSTAMP:20260423T091920
CREATED:20260202T165754Z
LAST-MODIFIED:20260202T165754Z
UID:10004414-1812103200-1812106800@hfgagents.com
SUMMARY:FEX Friday
DESCRIPTION:
URL:https://hfgagents.com/event/fex-friday-2-2/2027-06-04/
LOCATION:Zoom
END:VEVENT
END:VCALENDAR