BEGIN:VCALENDAR
VERSION:2.0
PRODID:-//Heartland Financial Group - ECPv6.15.11//NONSGML v1.0//EN
CALSCALE:GREGORIAN
METHOD:PUBLISH
X-WR-CALNAME:Heartland Financial Group
X-ORIGINAL-URL:https://hfgagents.com
X-WR-CALDESC:Events for Heartland Financial Group
REFRESH-INTERVAL;VALUE=DURATION:PT1H
X-Robots-Tag:noindex
X-PUBLISHED-TTL:PT1H
BEGIN:VTIMEZONE
TZID:America/Chicago
BEGIN:DAYLIGHT
TZOFFSETFROM:-0600
TZOFFSETTO:-0500
TZNAME:CDT
DTSTART:20250309T080000
END:DAYLIGHT
BEGIN:STANDARD
TZOFFSETFROM:-0500
TZOFFSETTO:-0600
TZNAME:CST
DTSTART:20251102T070000
END:STANDARD
BEGIN:DAYLIGHT
TZOFFSETFROM:-0600
TZOFFSETTO:-0500
TZNAME:CDT
DTSTART:20260308T080000
END:DAYLIGHT
BEGIN:STANDARD
TZOFFSETFROM:-0500
TZOFFSETTO:-0600
TZNAME:CST
DTSTART:20261101T070000
END:STANDARD
BEGIN:DAYLIGHT
TZOFFSETFROM:-0600
TZOFFSETTO:-0500
TZNAME:CDT
DTSTART:20270314T080000
END:DAYLIGHT
BEGIN:STANDARD
TZOFFSETFROM:-0500
TZOFFSETTO:-0600
TZNAME:CST
DTSTART:20271107T070000
END:STANDARD
END:VTIMEZONE
BEGIN:VEVENT
DTSTART;TZID=America/Chicago:20260428T090000
DTEND;TZID=America/Chicago:20260428T100000
DTSTAMP:20260424T104313
CREATED:20260202T164122Z
LAST-MODIFIED:20260202T164122Z
UID:10002418-1777366800-1777370400@hfgagents.com
SUMMARY:Tech Tip Tuesdays!
DESCRIPTION:Join us every Tuesday at 9a.m. CDT or 11a.m. CDT for quick 15-minute tutorials on important tools to help you better manage and serve your Medicare leads this Annual Enrollment Period.
URL:https://hfgagents.com/event/tech-tip-tuesdays-2-2/2026-04-28/
LOCATION:Zoom
END:VEVENT
BEGIN:VEVENT
DTSTART;TZID=America/Chicago:20260505T090000
DTEND;TZID=America/Chicago:20260505T100000
DTSTAMP:20260424T104313
CREATED:20260202T164122Z
LAST-MODIFIED:20260202T164122Z
UID:10002419-1777971600-1777975200@hfgagents.com
SUMMARY:Tech Tip Tuesdays!
DESCRIPTION:Join us every Tuesday at 9a.m. CDT or 11a.m. CDT for quick 15-minute tutorials on important tools to help you better manage and serve your Medicare leads this Annual Enrollment Period.
URL:https://hfgagents.com/event/tech-tip-tuesdays-2-2/2026-05-05/
LOCATION:Zoom
END:VEVENT
BEGIN:VEVENT
DTSTART;TZID=America/Chicago:20260512T090000
DTEND;TZID=America/Chicago:20260512T100000
DTSTAMP:20260424T104313
CREATED:20260202T164122Z
LAST-MODIFIED:20260202T164122Z
UID:10002420-1778576400-1778580000@hfgagents.com
SUMMARY:Tech Tip Tuesdays!
DESCRIPTION:Join us every Tuesday at 9a.m. CDT or 11a.m. CDT for quick 15-minute tutorials on important tools to help you better manage and serve your Medicare leads this Annual Enrollment Period.
URL:https://hfgagents.com/event/tech-tip-tuesdays-2-2/2026-05-12/
LOCATION:Zoom
END:VEVENT
BEGIN:VEVENT
DTSTART;TZID=America/Chicago:20260519T090000
DTEND;TZID=America/Chicago:20260519T100000
DTSTAMP:20260424T104313
CREATED:20260202T164122Z
LAST-MODIFIED:20260202T164122Z
UID:10002421-1779181200-1779184800@hfgagents.com
SUMMARY:Tech Tip Tuesdays!
DESCRIPTION:Join us every Tuesday at 9a.m. CDT or 11a.m. CDT for quick 15-minute tutorials on important tools to help you better manage and serve your Medicare leads this Annual Enrollment Period.
URL:https://hfgagents.com/event/tech-tip-tuesdays-2-2/2026-05-19/
LOCATION:Zoom
END:VEVENT
BEGIN:VEVENT
DTSTART;TZID=America/Chicago:20260526T090000
DTEND;TZID=America/Chicago:20260526T100000
DTSTAMP:20260424T104313
CREATED:20260202T164122Z
LAST-MODIFIED:20260202T164122Z
UID:10002422-1779786000-1779789600@hfgagents.com
SUMMARY:Tech Tip Tuesdays!
DESCRIPTION:Join us every Tuesday at 9a.m. CDT or 11a.m. CDT for quick 15-minute tutorials on important tools to help you better manage and serve your Medicare leads this Annual Enrollment Period.
URL:https://hfgagents.com/event/tech-tip-tuesdays-2-2/2026-05-26/
LOCATION:Zoom
END:VEVENT
BEGIN:VEVENT
DTSTART;TZID=America/Chicago:20260602T090000
DTEND;TZID=America/Chicago:20260602T100000
DTSTAMP:20260424T104313
CREATED:20260202T164122Z
LAST-MODIFIED:20260202T164122Z
UID:10002423-1780390800-1780394400@hfgagents.com
SUMMARY:Tech Tip Tuesdays!
DESCRIPTION:Join us every Tuesday at 9a.m. CDT or 11a.m. CDT for quick 15-minute tutorials on important tools to help you better manage and serve your Medicare leads this Annual Enrollment Period.
URL:https://hfgagents.com/event/tech-tip-tuesdays-2-2/2026-06-02/
LOCATION:Zoom
END:VEVENT
BEGIN:VEVENT
DTSTART;TZID=America/Chicago:20260609T090000
DTEND;TZID=America/Chicago:20260609T100000
DTSTAMP:20260424T104313
CREATED:20260202T164122Z
LAST-MODIFIED:20260202T164122Z
UID:10002424-1780995600-1780999200@hfgagents.com
SUMMARY:Tech Tip Tuesdays!
DESCRIPTION:Join us every Tuesday at 9a.m. CDT or 11a.m. CDT for quick 15-minute tutorials on important tools to help you better manage and serve your Medicare leads this Annual Enrollment Period.
URL:https://hfgagents.com/event/tech-tip-tuesdays-2-2/2026-06-09/
LOCATION:Zoom
END:VEVENT
BEGIN:VEVENT
DTSTART;TZID=America/Chicago:20260616T090000
DTEND;TZID=America/Chicago:20260616T100000
DTSTAMP:20260424T104313
CREATED:20260202T164122Z
LAST-MODIFIED:20260202T164122Z
UID:10002425-1781600400-1781604000@hfgagents.com
SUMMARY:Tech Tip Tuesdays!
DESCRIPTION:Join us every Tuesday at 9a.m. CDT or 11a.m. CDT for quick 15-minute tutorials on important tools to help you better manage and serve your Medicare leads this Annual Enrollment Period.
URL:https://hfgagents.com/event/tech-tip-tuesdays-2-2/2026-06-16/
LOCATION:Zoom
END:VEVENT
BEGIN:VEVENT
DTSTART;TZID=America/Chicago:20260623T090000
DTEND;TZID=America/Chicago:20260623T100000
DTSTAMP:20260424T104313
CREATED:20260202T164122Z
LAST-MODIFIED:20260202T164122Z
UID:10002426-1782205200-1782208800@hfgagents.com
SUMMARY:Tech Tip Tuesdays!
DESCRIPTION:Join us every Tuesday at 9a.m. CDT or 11a.m. CDT for quick 15-minute tutorials on important tools to help you better manage and serve your Medicare leads this Annual Enrollment Period.
URL:https://hfgagents.com/event/tech-tip-tuesdays-2-2/2026-06-23/
LOCATION:Zoom
END:VEVENT
BEGIN:VEVENT
DTSTART;TZID=America/Chicago:20260630T090000
DTEND;TZID=America/Chicago:20260630T100000
DTSTAMP:20260424T104313
CREATED:20260202T164122Z
LAST-MODIFIED:20260202T164122Z
UID:10002427-1782810000-1782813600@hfgagents.com
SUMMARY:Tech Tip Tuesdays!
DESCRIPTION:Join us every Tuesday at 9a.m. CDT or 11a.m. CDT for quick 15-minute tutorials on important tools to help you better manage and serve your Medicare leads this Annual Enrollment Period.
URL:https://hfgagents.com/event/tech-tip-tuesdays-2-2/2026-06-30/
LOCATION:Zoom
END:VEVENT
BEGIN:VEVENT
DTSTART;TZID=America/Chicago:20260707T090000
DTEND;TZID=America/Chicago:20260707T100000
DTSTAMP:20260424T104313
CREATED:20260202T164122Z
LAST-MODIFIED:20260202T164122Z
UID:10002428-1783414800-1783418400@hfgagents.com
SUMMARY:Tech Tip Tuesdays!
DESCRIPTION:Join us every Tuesday at 9a.m. CDT or 11a.m. CDT for quick 15-minute tutorials on important tools to help you better manage and serve your Medicare leads this Annual Enrollment Period.
URL:https://hfgagents.com/event/tech-tip-tuesdays-2-2/2026-07-07/
LOCATION:Zoom
END:VEVENT
BEGIN:VEVENT
DTSTART;TZID=America/Chicago:20260714T090000
DTEND;TZID=America/Chicago:20260714T100000
DTSTAMP:20260424T104313
CREATED:20260202T164122Z
LAST-MODIFIED:20260202T164122Z
UID:10002429-1784019600-1784023200@hfgagents.com
SUMMARY:Tech Tip Tuesdays!
DESCRIPTION:Join us every Tuesday at 9a.m. CDT or 11a.m. CDT for quick 15-minute tutorials on important tools to help you better manage and serve your Medicare leads this Annual Enrollment Period.
URL:https://hfgagents.com/event/tech-tip-tuesdays-2-2/2026-07-14/
LOCATION:Zoom
END:VEVENT
BEGIN:VEVENT
DTSTART;TZID=America/Chicago:20260721T090000
DTEND;TZID=America/Chicago:20260721T100000
DTSTAMP:20260424T104313
CREATED:20260202T164122Z
LAST-MODIFIED:20260202T164122Z
UID:10002430-1784624400-1784628000@hfgagents.com
SUMMARY:Tech Tip Tuesdays!
DESCRIPTION:Join us every Tuesday at 9a.m. CDT or 11a.m. CDT for quick 15-minute tutorials on important tools to help you better manage and serve your Medicare leads this Annual Enrollment Period.
URL:https://hfgagents.com/event/tech-tip-tuesdays-2-2/2026-07-21/
LOCATION:Zoom
END:VEVENT
BEGIN:VEVENT
DTSTART;TZID=America/Chicago:20260728T090000
DTEND;TZID=America/Chicago:20260728T100000
DTSTAMP:20260424T104313
CREATED:20260202T164122Z
LAST-MODIFIED:20260202T164122Z
UID:10002431-1785229200-1785232800@hfgagents.com
SUMMARY:Tech Tip Tuesdays!
DESCRIPTION:Join us every Tuesday at 9a.m. CDT or 11a.m. CDT for quick 15-minute tutorials on important tools to help you better manage and serve your Medicare leads this Annual Enrollment Period.
URL:https://hfgagents.com/event/tech-tip-tuesdays-2-2/2026-07-28/
LOCATION:Zoom
END:VEVENT
BEGIN:VEVENT
DTSTART;TZID=America/Chicago:20260804T090000
DTEND;TZID=America/Chicago:20260804T100000
DTSTAMP:20260424T104313
CREATED:20260202T164122Z
LAST-MODIFIED:20260202T164122Z
UID:10002432-1785834000-1785837600@hfgagents.com
SUMMARY:Tech Tip Tuesdays!
DESCRIPTION:Join us every Tuesday at 9a.m. CDT or 11a.m. CDT for quick 15-minute tutorials on important tools to help you better manage and serve your Medicare leads this Annual Enrollment Period.
URL:https://hfgagents.com/event/tech-tip-tuesdays-2-2/2026-08-04/
LOCATION:Zoom
END:VEVENT
BEGIN:VEVENT
DTSTART;TZID=America/Chicago:20260811T090000
DTEND;TZID=America/Chicago:20260811T100000
DTSTAMP:20260424T104313
CREATED:20260202T164122Z
LAST-MODIFIED:20260202T164122Z
UID:10002433-1786438800-1786442400@hfgagents.com
SUMMARY:Tech Tip Tuesdays!
DESCRIPTION:Join us every Tuesday at 9a.m. CDT or 11a.m. CDT for quick 15-minute tutorials on important tools to help you better manage and serve your Medicare leads this Annual Enrollment Period.
URL:https://hfgagents.com/event/tech-tip-tuesdays-2-2/2026-08-11/
LOCATION:Zoom
END:VEVENT
BEGIN:VEVENT
DTSTART;TZID=America/Chicago:20260818T090000
DTEND;TZID=America/Chicago:20260818T100000
DTSTAMP:20260424T104313
CREATED:20260202T164122Z
LAST-MODIFIED:20260202T164122Z
UID:10002434-1787043600-1787047200@hfgagents.com
SUMMARY:Tech Tip Tuesdays!
DESCRIPTION:Join us every Tuesday at 9a.m. CDT or 11a.m. CDT for quick 15-minute tutorials on important tools to help you better manage and serve your Medicare leads this Annual Enrollment Period.
URL:https://hfgagents.com/event/tech-tip-tuesdays-2-2/2026-08-18/
LOCATION:Zoom
END:VEVENT
BEGIN:VEVENT
DTSTART;TZID=America/Chicago:20260825T090000
DTEND;TZID=America/Chicago:20260825T100000
DTSTAMP:20260424T104313
CREATED:20260202T164122Z
LAST-MODIFIED:20260202T164122Z
UID:10002435-1787648400-1787652000@hfgagents.com
SUMMARY:Tech Tip Tuesdays!
DESCRIPTION:Join us every Tuesday at 9a.m. CDT or 11a.m. CDT for quick 15-minute tutorials on important tools to help you better manage and serve your Medicare leads this Annual Enrollment Period.
URL:https://hfgagents.com/event/tech-tip-tuesdays-2-2/2026-08-25/
LOCATION:Zoom
END:VEVENT
BEGIN:VEVENT
DTSTART;TZID=America/Chicago:20260901T090000
DTEND;TZID=America/Chicago:20260901T100000
DTSTAMP:20260424T104313
CREATED:20260202T164122Z
LAST-MODIFIED:20260202T164122Z
UID:10002436-1788253200-1788256800@hfgagents.com
SUMMARY:Tech Tip Tuesdays!
DESCRIPTION:Join us every Tuesday at 9a.m. CDT or 11a.m. CDT for quick 15-minute tutorials on important tools to help you better manage and serve your Medicare leads this Annual Enrollment Period.
URL:https://hfgagents.com/event/tech-tip-tuesdays-2-2/2026-09-01/
LOCATION:Zoom
END:VEVENT
BEGIN:VEVENT
DTSTART;TZID=America/Chicago:20260908T090000
DTEND;TZID=America/Chicago:20260908T100000
DTSTAMP:20260424T104313
CREATED:20260202T164122Z
LAST-MODIFIED:20260202T164122Z
UID:10002437-1788858000-1788861600@hfgagents.com
SUMMARY:Tech Tip Tuesdays!
DESCRIPTION:Join us every Tuesday at 9a.m. CDT or 11a.m. CDT for quick 15-minute tutorials on important tools to help you better manage and serve your Medicare leads this Annual Enrollment Period.
URL:https://hfgagents.com/event/tech-tip-tuesdays-2-2/2026-09-08/
LOCATION:Zoom
END:VEVENT
BEGIN:VEVENT
DTSTART;TZID=America/Chicago:20260915T090000
DTEND;TZID=America/Chicago:20260915T100000
DTSTAMP:20260424T104313
CREATED:20260202T164122Z
LAST-MODIFIED:20260202T164122Z
UID:10002438-1789462800-1789466400@hfgagents.com
SUMMARY:Tech Tip Tuesdays!
DESCRIPTION:Join us every Tuesday at 9a.m. CDT or 11a.m. CDT for quick 15-minute tutorials on important tools to help you better manage and serve your Medicare leads this Annual Enrollment Period.
URL:https://hfgagents.com/event/tech-tip-tuesdays-2-2/2026-09-15/
LOCATION:Zoom
END:VEVENT
BEGIN:VEVENT
DTSTART;TZID=America/Chicago:20260922T090000
DTEND;TZID=America/Chicago:20260922T100000
DTSTAMP:20260424T104313
CREATED:20260202T164122Z
LAST-MODIFIED:20260202T164122Z
UID:10002439-1790067600-1790071200@hfgagents.com
SUMMARY:Tech Tip Tuesdays!
DESCRIPTION:Join us every Tuesday at 9a.m. CDT or 11a.m. CDT for quick 15-minute tutorials on important tools to help you better manage and serve your Medicare leads this Annual Enrollment Period.
URL:https://hfgagents.com/event/tech-tip-tuesdays-2-2/2026-09-22/
LOCATION:Zoom
END:VEVENT
BEGIN:VEVENT
DTSTART;TZID=America/Chicago:20260929T090000
DTEND;TZID=America/Chicago:20260929T100000
DTSTAMP:20260424T104313
CREATED:20260202T164122Z
LAST-MODIFIED:20260202T164122Z
UID:10002440-1790672400-1790676000@hfgagents.com
SUMMARY:Tech Tip Tuesdays!
DESCRIPTION:Join us every Tuesday at 9a.m. CDT or 11a.m. CDT for quick 15-minute tutorials on important tools to help you better manage and serve your Medicare leads this Annual Enrollment Period.
URL:https://hfgagents.com/event/tech-tip-tuesdays-2-2/2026-09-29/
LOCATION:Zoom
END:VEVENT
BEGIN:VEVENT
DTSTART;TZID=America/Chicago:20261006T090000
DTEND;TZID=America/Chicago:20261006T100000
DTSTAMP:20260424T104313
CREATED:20260202T164122Z
LAST-MODIFIED:20260202T164122Z
UID:10002441-1791277200-1791280800@hfgagents.com
SUMMARY:Tech Tip Tuesdays!
DESCRIPTION:Join us every Tuesday at 9a.m. CDT or 11a.m. CDT for quick 15-minute tutorials on important tools to help you better manage and serve your Medicare leads this Annual Enrollment Period.
URL:https://hfgagents.com/event/tech-tip-tuesdays-2-2/2026-10-06/
LOCATION:Zoom
END:VEVENT
BEGIN:VEVENT
DTSTART;TZID=America/Chicago:20261013T090000
DTEND;TZID=America/Chicago:20261013T100000
DTSTAMP:20260424T104313
CREATED:20260202T164122Z
LAST-MODIFIED:20260202T164122Z
UID:10002442-1791882000-1791885600@hfgagents.com
SUMMARY:Tech Tip Tuesdays!
DESCRIPTION:Join us every Tuesday at 9a.m. CDT or 11a.m. CDT for quick 15-minute tutorials on important tools to help you better manage and serve your Medicare leads this Annual Enrollment Period.
URL:https://hfgagents.com/event/tech-tip-tuesdays-2-2/2026-10-13/
LOCATION:Zoom
END:VEVENT
BEGIN:VEVENT
DTSTART;TZID=America/Chicago:20261020T090000
DTEND;TZID=America/Chicago:20261020T100000
DTSTAMP:20260424T104313
CREATED:20260202T164122Z
LAST-MODIFIED:20260202T164122Z
UID:10002443-1792486800-1792490400@hfgagents.com
SUMMARY:Tech Tip Tuesdays!
DESCRIPTION:Join us every Tuesday at 9a.m. CDT or 11a.m. CDT for quick 15-minute tutorials on important tools to help you better manage and serve your Medicare leads this Annual Enrollment Period.
URL:https://hfgagents.com/event/tech-tip-tuesdays-2-2/2026-10-20/
LOCATION:Zoom
END:VEVENT
BEGIN:VEVENT
DTSTART;TZID=America/Chicago:20261027T090000
DTEND;TZID=America/Chicago:20261027T100000
DTSTAMP:20260424T104313
CREATED:20260202T164122Z
LAST-MODIFIED:20260202T164122Z
UID:10002444-1793091600-1793095200@hfgagents.com
SUMMARY:Tech Tip Tuesdays!
DESCRIPTION:Join us every Tuesday at 9a.m. CDT or 11a.m. CDT for quick 15-minute tutorials on important tools to help you better manage and serve your Medicare leads this Annual Enrollment Period.
URL:https://hfgagents.com/event/tech-tip-tuesdays-2-2/2026-10-27/
LOCATION:Zoom
END:VEVENT
BEGIN:VEVENT
DTSTART;TZID=America/Chicago:20261103T090000
DTEND;TZID=America/Chicago:20261103T100000
DTSTAMP:20260424T104313
CREATED:20260202T164122Z
LAST-MODIFIED:20260202T164122Z
UID:10002445-1793696400-1793700000@hfgagents.com
SUMMARY:Tech Tip Tuesdays!
DESCRIPTION:Join us every Tuesday at 9a.m. CDT or 11a.m. CDT for quick 15-minute tutorials on important tools to help you better manage and serve your Medicare leads this Annual Enrollment Period.
URL:https://hfgagents.com/event/tech-tip-tuesdays-2-2/2026-11-03/
LOCATION:Zoom
END:VEVENT
BEGIN:VEVENT
DTSTART;TZID=America/Chicago:20261110T090000
DTEND;TZID=America/Chicago:20261110T100000
DTSTAMP:20260424T104313
CREATED:20260202T164122Z
LAST-MODIFIED:20260202T164122Z
UID:10002446-1794301200-1794304800@hfgagents.com
SUMMARY:Tech Tip Tuesdays!
DESCRIPTION:Join us every Tuesday at 9a.m. CDT or 11a.m. CDT for quick 15-minute tutorials on important tools to help you better manage and serve your Medicare leads this Annual Enrollment Period.
URL:https://hfgagents.com/event/tech-tip-tuesdays-2-2/2026-11-10/
LOCATION:Zoom
END:VEVENT
BEGIN:VEVENT
DTSTART;TZID=America/Chicago:20261117T090000
DTEND;TZID=America/Chicago:20261117T100000
DTSTAMP:20260424T104313
CREATED:20260202T164122Z
LAST-MODIFIED:20260202T164122Z
UID:10002447-1794906000-1794909600@hfgagents.com
SUMMARY:Tech Tip Tuesdays!
DESCRIPTION:Join us every Tuesday at 9a.m. CDT or 11a.m. CDT for quick 15-minute tutorials on important tools to help you better manage and serve your Medicare leads this Annual Enrollment Period.
URL:https://hfgagents.com/event/tech-tip-tuesdays-2-2/2026-11-17/
LOCATION:Zoom
END:VEVENT
END:VCALENDAR