BEGIN:VCALENDAR
VERSION:2.0
PRODID:-//Heartland Financial Group - ECPv6.15.11//NONSGML v1.0//EN
CALSCALE:GREGORIAN
METHOD:PUBLISH
X-ORIGINAL-URL:https://hfgagents.com
X-WR-CALDESC:Events for Heartland Financial Group
REFRESH-INTERVAL;VALUE=DURATION:PT1H
X-Robots-Tag:noindex
X-PUBLISHED-TTL:PT1H
BEGIN:VTIMEZONE
TZID:America/Chicago
BEGIN:DAYLIGHT
TZOFFSETFROM:-0600
TZOFFSETTO:-0500
TZNAME:CDT
DTSTART:20250309T080000
END:DAYLIGHT
BEGIN:STANDARD
TZOFFSETFROM:-0500
TZOFFSETTO:-0600
TZNAME:CST
DTSTART:20251102T070000
END:STANDARD
BEGIN:DAYLIGHT
TZOFFSETFROM:-0600
TZOFFSETTO:-0500
TZNAME:CDT
DTSTART:20260308T080000
END:DAYLIGHT
BEGIN:STANDARD
TZOFFSETFROM:-0500
TZOFFSETTO:-0600
TZNAME:CST
DTSTART:20261101T070000
END:STANDARD
BEGIN:DAYLIGHT
TZOFFSETFROM:-0600
TZOFFSETTO:-0500
TZNAME:CDT
DTSTART:20270314T080000
END:DAYLIGHT
BEGIN:STANDARD
TZOFFSETFROM:-0500
TZOFFSETTO:-0600
TZNAME:CST
DTSTART:20271107T070000
END:STANDARD
END:VTIMEZONE
BEGIN:VTIMEZONE
TZID:America/Indiana/Knox
BEGIN:DAYLIGHT
TZOFFSETFROM:-0600
TZOFFSETTO:-0500
TZNAME:CDT
DTSTART:20250309T080000
END:DAYLIGHT
BEGIN:STANDARD
TZOFFSETFROM:-0500
TZOFFSETTO:-0600
TZNAME:CST
DTSTART:20251102T070000
END:STANDARD
BEGIN:DAYLIGHT
TZOFFSETFROM:-0600
TZOFFSETTO:-0500
TZNAME:CDT
DTSTART:20260308T080000
END:DAYLIGHT
BEGIN:STANDARD
TZOFFSETFROM:-0500
TZOFFSETTO:-0600
TZNAME:CST
DTSTART:20261101T070000
END:STANDARD
BEGIN:DAYLIGHT
TZOFFSETFROM:-0600
TZOFFSETTO:-0500
TZNAME:CDT
DTSTART:20270314T080000
END:DAYLIGHT
BEGIN:STANDARD
TZOFFSETFROM:-0500
TZOFFSETTO:-0600
TZNAME:CST
DTSTART:20271107T070000
END:STANDARD
END:VTIMEZONE
BEGIN:VEVENT
DTSTART;TZID=America/Chicago:20260423T100000
DTEND;TZID=America/Chicago:20260423T110000
DTSTAMP:20260423T122051
CREATED:20260330T164330Z
LAST-MODIFIED:20260330T164330Z
UID:10004524-1776938400-1776942000@hfgagents.com
SUMMARY:Client Needs Assessment
DESCRIPTION:
URL:https://hfgagents.com/event/client-needs-assessment-5/
END:VEVENT
BEGIN:VEVENT
DTSTART;TZID=America/Chicago:20260424T090000
DTEND;TZID=America/Chicago:20260424T100000
DTSTAMP:20260423T122051
CREATED:20260330T164525Z
LAST-MODIFIED:20260330T164525Z
UID:10004525-1777021200-1777024800@hfgagents.com
SUMMARY:Queen of the Bundle: Building Packages of Protection with Ancillaries
DESCRIPTION:
URL:https://hfgagents.com/event/queen-of-the-bundle-building-packages-of-protection-with-ancillaries-2/
END:VEVENT
BEGIN:VEVENT
DTSTART;TZID=America/Chicago:20260424T100000
DTEND;TZID=America/Chicago:20260424T110000
DTSTAMP:20260423T122051
CREATED:20260202T165754Z
LAST-MODIFIED:20260202T165754Z
UID:10004385-1777024800-1777028400@hfgagents.com
SUMMARY:FEX Friday
DESCRIPTION:
URL:https://hfgagents.com/event/fex-friday-2-2/2026-04-24/
LOCATION:Zoom
END:VEVENT
BEGIN:VEVENT
DTSTART;TZID=America/Chicago:20260427T103000
DTEND;TZID=America/Chicago:20260427T110000
DTSTAMP:20260423T122051
CREATED:20260202T164507Z
LAST-MODIFIED:20260202T164507Z
UID:10003997-1777285800-1777287600@hfgagents.com
SUMMARY:CSG App Feature Focus
DESCRIPTION:
URL:https://hfgagents.com/event/csg-app-feature-focus/2026-04-27/
LOCATION:Zoom
END:VEVENT
BEGIN:VEVENT
DTSTART;TZID=America/Chicago:20260428T090000
DTEND;TZID=America/Chicago:20260428T100000
DTSTAMP:20260423T122051
CREATED:20260202T164122Z
LAST-MODIFIED:20260202T164122Z
UID:10002418-1777366800-1777370400@hfgagents.com
SUMMARY:Tech Tip Tuesdays!
DESCRIPTION:Join us every Tuesday at 9a.m. CDT or 11a.m. CDT for quick 15-minute tutorials on important tools to help you better manage and serve your Medicare leads this Annual Enrollment Period.
URL:https://hfgagents.com/event/tech-tip-tuesdays-2-2/2026-04-28/
LOCATION:Zoom
END:VEVENT
BEGIN:VEVENT
DTSTART;TZID=America/Chicago:20260428T100000
DTEND;TZID=America/Chicago:20260428T110000
DTSTAMP:20260423T122051
CREATED:20260330T164711Z
LAST-MODIFIED:20260330T164711Z
UID:10004526-1777370400-1777374000@hfgagents.com
SUMMARY:Manhattan Med Supp Showcase
DESCRIPTION:
URL:https://hfgagents.com/event/manhattan-med-supp-showcase/
END:VEVENT
BEGIN:VEVENT
DTSTART;TZID=America/Indiana/Knox:20260428T130000
DTEND;TZID=America/Indiana/Knox:20260428T140000
DTSTAMP:20260423T122051
CREATED:20260330T164832Z
LAST-MODIFIED:20260330T164832Z
UID:10004527-1777381200-1777384800@hfgagents.com
SUMMARY:Wellabe Med Supp Showcase
DESCRIPTION:
URL:https://hfgagents.com/event/wellabe-med-supp-showcase/
END:VEVENT
BEGIN:VEVENT
DTSTART;TZID=America/Chicago:20260428T130000
DTEND;TZID=America/Chicago:20260428T140000
DTSTAMP:20260423T122051
CREATED:20260330T164955Z
LAST-MODIFIED:20260330T164955Z
UID:10004528-1777381200-1777384800@hfgagents.com
SUMMARY:Introducing The Senior Market Signal - Formerly: Market Disruptions
DESCRIPTION:
URL:https://hfgagents.com/event/introducing-the-senior-market-signal-formerly-market-disruptions/
END:VEVENT
BEGIN:VEVENT
DTSTART;TZID=America/Chicago:20260429T120000
DTEND;TZID=America/Chicago:20260429T130000
DTSTAMP:20260423T122051
CREATED:20260330T165121Z
LAST-MODIFIED:20260330T165121Z
UID:10004529-1777464000-1777467600@hfgagents.com
SUMMARY:UnitedHealthOne - ACA Alternatives
DESCRIPTION:
URL:https://hfgagents.com/event/unitedhealthone-aca-alternatives/
END:VEVENT
BEGIN:VEVENT
DTSTART;TZID=America/Indiana/Knox:20260430T100000
DTEND;TZID=America/Indiana/Knox:20260430T110000
DTSTAMP:20260423T122051
CREATED:20260330T165226Z
LAST-MODIFIED:20260330T165226Z
UID:10004530-1777543200-1777546800@hfgagents.com
SUMMARY:Queen of the Bundle: Building Packages of Protection with Ancillaries
DESCRIPTION:
URL:https://hfgagents.com/event/queen-of-the-bundle-building-packages-of-protection-with-ancillaries-3/
END:VEVENT
BEGIN:VEVENT
DTSTART;TZID=America/Indiana/Knox:20260430T120000
DTEND;TZID=America/Indiana/Knox:20260430T130000
DTSTAMP:20260423T122051
CREATED:20260330T165339Z
LAST-MODIFIED:20260330T165339Z
UID:10004531-1777550400-1777554000@hfgagents.com
SUMMARY:AHL IdealFlex HI Webinar
DESCRIPTION:
URL:https://hfgagents.com/event/ahl-idealflex-hi-webinar/
END:VEVENT
END:VCALENDAR